BEGIN:VCALENDAR
VERSION:2.0
PRODID:-//Méxicogas - ECPv6.15.19//NONSGML v1.0//EN
CALSCALE:GREGORIAN
METHOD:PUBLISH
X-ORIGINAL-URL:https://mexicogas.net
X-WR-CALDESC:Eventos para Méxicogas
REFRESH-INTERVAL;VALUE=DURATION:PT1H
X-Robots-Tag:noindex
X-PUBLISHED-TTL:PT1H
BEGIN:VTIMEZONE
TZID:America/Mexico_City
BEGIN:DAYLIGHT
TZOFFSETFROM:-0600
TZOFFSETTO:-0500
TZNAME:CDT
DTSTART:20250406T080000
END:DAYLIGHT
BEGIN:STANDARD
TZOFFSETFROM:-0500
TZOFFSETTO:-0600
TZNAME:CST
DTSTART:20251026T070000
END:STANDARD
BEGIN:DAYLIGHT
TZOFFSETFROM:-0600
TZOFFSETTO:-0500
TZNAME:CDT
DTSTART:20260405T080000
END:DAYLIGHT
BEGIN:STANDARD
TZOFFSETFROM:-0500
TZOFFSETTO:-0600
TZNAME:CST
DTSTART:20261025T070000
END:STANDARD
BEGIN:DAYLIGHT
TZOFFSETFROM:-0600
TZOFFSETTO:-0500
TZNAME:CDT
DTSTART:20270404T080000
END:DAYLIGHT
BEGIN:STANDARD
TZOFFSETFROM:-0500
TZOFFSETTO:-0600
TZNAME:CST
DTSTART:20271031T070000
END:STANDARD
END:VTIMEZONE
BEGIN:VEVENT
DTSTART;VALUE=DATE:20260419
DTEND;VALUE=DATE:20260422
DTSTAMP:20260420T174351
CREATED:20251115T195001Z
LAST-MODIFIED:20251115T195001Z
UID:3714-1776556800-1776815999@mexicogas.net
SUMMARY:Expo Internacional de GLP 2026 - NPGA
DESCRIPTION:
URL:https://mexicogas.net/event/expo-internacional-de-glp-2026-npga/
LOCATION:Music City Center\, Nashville\, TN\, Nashville\, Tennesse\, United States
CATEGORIES:Expo
ATTACH;FMTTYPE=image/jpeg:https://mexicogas.net/wp-content/uploads/2025/11/npga2026.jpg
END:VEVENT
END:VCALENDAR