BEGIN:VCALENDAR
VERSION:2.0
PRODID:-//Méxicogas - ECPv6.15.19//NONSGML v1.0//EN
CALSCALE:GREGORIAN
METHOD:PUBLISH
X-ORIGINAL-URL:https://mexicogas.net
X-WR-CALDESC:Eventos para Méxicogas
REFRESH-INTERVAL;VALUE=DURATION:PT1H
X-Robots-Tag:noindex
X-PUBLISHED-TTL:PT1H
BEGIN:VTIMEZONE
TZID:America/Mexico_City
BEGIN:DAYLIGHT
TZOFFSETFROM:-0600
TZOFFSETTO:-0500
TZNAME:CDT
DTSTART:20250406T080000
END:DAYLIGHT
BEGIN:STANDARD
TZOFFSETFROM:-0500
TZOFFSETTO:-0600
TZNAME:CST
DTSTART:20251026T070000
END:STANDARD
BEGIN:DAYLIGHT
TZOFFSETFROM:-0600
TZOFFSETTO:-0500
TZNAME:CDT
DTSTART:20260405T080000
END:DAYLIGHT
BEGIN:STANDARD
TZOFFSETFROM:-0500
TZOFFSETTO:-0600
TZNAME:CST
DTSTART:20261025T070000
END:STANDARD
BEGIN:DAYLIGHT
TZOFFSETFROM:-0600
TZOFFSETTO:-0500
TZNAME:CDT
DTSTART:20270404T080000
END:DAYLIGHT
BEGIN:STANDARD
TZOFFSETFROM:-0500
TZOFFSETTO:-0600
TZNAME:CST
DTSTART:20271031T070000
END:STANDARD
END:VTIMEZONE
BEGIN:VEVENT
DTSTART;VALUE=DATE:20260324
DTEND;VALUE=DATE:20260327
DTSTAMP:20260419T112507
CREATED:20250806T011704Z
LAST-MODIFIED:20250806T012241Z
UID:3610-1774310400-1774569599@mexicogas.net
SUMMARY:Congreso AIGLP 2026 en Buenos Aires | El Evento Líder del Sector GLP en América Latina
DESCRIPTION:La 39ª edición del Congreso de la AIGLP se celebrará del 24 al 26 de marzo de 2026 en Buenos Aires\, Argentina\, consolidándose como el principal evento del sector GLP (Gas Licuado de Petróleo) en América Latina. Este congreso internacional reúne a más de 1.800 profesionales\, expertos y líderes del sector energético\, con el objetivo de analizar los retos y oportunidades del mercado del GLP\, además de presentar las últimas innovaciones técnico-operativas\, regulatorias y comerciales que impactan a la industria. \nDurante el evento\, se llevará a cabo una exposición comercial paralela que congrega a más de 70 empresas expositoras\, presentando soluciones\, tecnologías y servicios para toda la cadena de valor del GLP. La feria recibe un promedio de 600 visitantes diarios\, generando un espacio único para el networking\, el desarrollo de alianzas estratégicas y el intercambio de conocimiento clave para el futuro del sector energético en la región. \nConferencias magistrales\, paneles especializados y una oferta expositiva de alto nivel hacen del Congreso de la AIGLP un punto de encuentro esencial para quienes buscan estar a la vanguardia del gas licuado de petróleo en América Latina.
URL:https://mexicogas.net/event/39-congreso-de-la-aiglp/
LOCATION:Hilton Buenos Aires\, Buenos Aires\, Argentina
CATEGORIES:Congreso
ATTACH;FMTTYPE=image/jpeg:https://mexicogas.net/wp-content/uploads/2025/08/CongresoAIGLP2026.jpg
END:VEVENT
END:VCALENDAR